BEGIN:VCALENDAR
VERSION:2.0
PRODID:-//www.theatreinthepark.com//NONSGML kigkonsult.se iCalcreator 2.30.
 10//
CALSCALE:GREGORIAN
METHOD:PUBLISH
UID:3a72ae17-36aa-44b0-a5c9-b838a2612c2a
X-WR-CALDESC:
X-WR-RELCALID:5a2eab48b08a81e4fec1ce4d2aceaf70
X-WR-TIMEZONE:America/New_York
BEGIN:VTIMEZONE
TZID:America/New_York
BEGIN:STANDARD
TZNAME:EST
DTSTART:20231105T020000
TZOFFSETFROM:-0400
TZOFFSETTO:-0500
RDATE:20241103T020000
END:STANDARD
BEGIN:DAYLIGHT
TZNAME:EDT
DTSTART:20230312T020000
TZOFFSETFROM:-0500
TZOFFSETTO:-0400
RDATE:20240310T020000
RDATE:20250309T020000
END:DAYLIGHT
END:VTIMEZONE
BEGIN:VEVENT
UID:7709fc9f-579d-4830-8444-3923cf9f7aaa
DTSTAMP:20260420T100615Z
DESCRIPTION:
DTSTART;TZID=America/New_York:20240225T150000
DTEND;TZID=America/New_York:20240225T180000
LOCATION:107 Pullen Rd\, RALEIGH\, NC 27607 US
SUMMARY:Harold and Maude
END:VEVENT
END:VCALENDAR
