BEGIN:VCALENDAR
VERSION:2.0
PRODID:-//www.theatreinthepark.com//NONSGML kigkonsult.se iCalcreator 2.30.
 10//
CALSCALE:GREGORIAN
METHOD:PUBLISH
UID:c3c0807d-3811-4d97-9fcc-b940779e5d49
X-WR-CALDESC:Called 'the funniest farce ever written\,' Noises Off presents
  a manic menagerie of itinerant actors rehearsing a flop called Nothing's 
 On. Doors slamming\, on and offstage intrigue\, and an errant herring all 
 figure in the plot of this hilarious and classically comic play. One of ou
 r most requested shows!
X-WR-RELCALID:dc71cc637e0658fa7f3d3f77bd4364bb
X-WR-TIMEZONE:America/New_York
BEGIN:VTIMEZONE
TZID:America/New_York
BEGIN:STANDARD
TZNAME:EST
DTSTART:20221106T020000
TZOFFSETFROM:-0400
TZOFFSETTO:-0500
RDATE:20231105T020000
RDATE:20241103T020000
END:STANDARD
BEGIN:DAYLIGHT
TZNAME:EDT
DTSTART:20230312T020000
TZOFFSETFROM:-0500
TZOFFSETTO:-0400
RDATE:20240310T020000
END:DAYLIGHT
END:VTIMEZONE
BEGIN:VEVENT
UID:382ef4e8-c9ae-4f53-9f05-1941705c83cb
DTSTAMP:20260421T194019Z
DESCRIPTION:Called 'the funniest farce ever written\,' Noises Off presents 
 a manic menagerie of itinerant actors rehearsing a flop called Nothing's O
 n. Doors slamming\, on and offstage intrigue\, and an errant herring all f
 igure in the plot of this hilarious and classically comic play. One of our
  most requested shows!
DTSTART;TZID=America/New_York:20230817T193000
DTEND;TZID=America/New_York:20230817T213000
LOCATION:107 Pullen Road\, Raleigh\, NC 27607 US
SUMMARY:Noises Off!
END:VEVENT
END:VCALENDAR
