BEGIN:VCALENDAR
VERSION:2.0
PRODID:-//www.theatreinthepark.com//NONSGML kigkonsult.se iCalcreator 2.30.
 10//
CALSCALE:GREGORIAN
METHOD:PUBLISH
UID:87337e21-9866-4a66-b512-89909b7bdea2
X-WR-CALDESC:Called 'the funniest farce ever written\,' Noises Off presents
  a manic menagerie of itinerant actors rehearsing a flop called Nothing's 
 On. Doors slamming\, on and offstage intrigue\, and an errant herring all 
 figure in the plot of this hilarious and classically comic play. One of ou
 r most requested shows!
X-WR-RELCALID:084e9c89a71289c01e4a82d8da786f3f
X-WR-TIMEZONE:America/New_York
BEGIN:VTIMEZONE
TZID:America/New_York
BEGIN:STANDARD
TZNAME:EST
DTSTART:20221106T020000
TZOFFSETFROM:-0400
TZOFFSETTO:-0500
RDATE:20231105T020000
RDATE:20241103T020000
END:STANDARD
BEGIN:DAYLIGHT
TZNAME:EDT
DTSTART:20230312T020000
TZOFFSETFROM:-0500
TZOFFSETTO:-0400
RDATE:20240310T020000
END:DAYLIGHT
END:VTIMEZONE
BEGIN:VEVENT
UID:9fd034f4-918f-4fdc-9005-67a45da728a1
DTSTAMP:20260421T194128Z
DESCRIPTION:Called 'the funniest farce ever written\,' Noises Off presents 
 a manic menagerie of itinerant actors rehearsing a flop called Nothing's O
 n. Doors slamming\, on and offstage intrigue\, and an errant herring all f
 igure in the plot of this hilarious and classically comic play. One of our
  most requested shows!
DTSTART;TZID=America/New_York:20230811T193000
DTEND;TZID=America/New_York:20230811T213000
LOCATION:107 Pullen Road\, Raleigh\, NC 27607 US
SUMMARY:Noises Off!
END:VEVENT
END:VCALENDAR
