BEGIN:VCALENDAR
VERSION:2.0
PRODID:-//www.theatreinthepark.com//NONSGML kigkonsult.se iCalcreator 2.30.
 10//
CALSCALE:GREGORIAN
METHOD:PUBLISH
UID:c87e5866-9766-4178-be39-776e7bca0ce6
X-WR-CALDESC:Queen Elizabeth is dead\, and her favorite courtier\, Sir Walt
 er Raleigh\, is facing the executioner's blade. Larger-than-life\, Raleigh
  meets his fate with wit and aplomb\, despite a court of vipers and a jeal
 ous king intent on bringing his downfall. '... Ira David Wood III has give
 n audiences many memorable moments. But none perhaps is so poignant - or s
 o uniquely his own - as Theatre In The Park's stage biography of Sir Walte
 r Raleigh.' - Raleigh Times.
X-WR-RELCALID:07bf97a55a11bd1732237dc848bef0e0
X-WR-TIMEZONE:America/New_York
BEGIN:VTIMEZONE
TZID:America/New_York
BEGIN:STANDARD
TZNAME:EST
DTSTART:20221106T020000
TZOFFSETFROM:-0400
TZOFFSETTO:-0500
RDATE:20231105T020000
RDATE:20241103T020000
END:STANDARD
BEGIN:DAYLIGHT
TZNAME:EDT
DTSTART:20230312T020000
TZOFFSETFROM:-0500
TZOFFSETTO:-0400
RDATE:20240310T020000
END:DAYLIGHT
END:VTIMEZONE
BEGIN:VEVENT
UID:9b2fec5e-0f39-4a42-93c6-2a9bd3e98062
DTSTAMP:20260421T233653Z
DESCRIPTION:Queen Elizabeth is dead\, and her favorite courtier\, Sir Walte
 r Raleigh\, is facing the executioner's blade. Larger-than-life\, Raleigh 
 meets his fate with wit and aplomb\, despite a court of vipers and a jealo
 us king intent on bringing his downfall. '... Ira David Wood III has given
  audiences many memorable moments. But none perhaps is so poignant - or so
  uniquely his own - as Theatre In The Park's stage biography of Sir Walter
  Raleigh.' - Raleigh Times.
DTSTART;TZID=America/New_York:20230617T193000
DTEND;TZID=America/New_York:20230617T213000
LOCATION:107 Pullen Road\, Raleigh\, NC 27607 US
SUMMARY:Raleigh
END:VEVENT
END:VCALENDAR
