BEGIN:VCALENDAR
VERSION:2.0
PRODID:-//www.theatreinthepark.com//NONSGML kigkonsult.se iCalcreator 2.30.
 10//
CALSCALE:GREGORIAN
METHOD:PUBLISH
UID:b67645ef-f686-4e5c-84de-8cea3ed80e7c
X-WR-CALDESC:Queen Elizabeth is dead\, and her favorite courtier\, Sir Walt
 er Raleigh\, is facing the executioner's blade. Larger-than-life\, Raleigh
  meets his fate with wit and aplomb\, despite a court of vipers and a jeal
 ous king intent on bringing his downfall. '... Ira David Wood III has give
 n audiences many memorable moments. But none perhaps is so poignant - or s
 o uniquely his own - as Theatre In The Park's stage biography of Sir Walte
 r Raleigh.' - Raleigh Times.
X-WR-RELCALID:b5bc643da87b69d04d967ce1c5fabe84
X-WR-TIMEZONE:America/New_York
BEGIN:VTIMEZONE
TZID:America/New_York
BEGIN:STANDARD
TZNAME:EST
DTSTART:20221106T020000
TZOFFSETFROM:-0400
TZOFFSETTO:-0500
RDATE:20231105T020000
RDATE:20241103T020000
END:STANDARD
BEGIN:DAYLIGHT
TZNAME:EDT
DTSTART:20230312T020000
TZOFFSETFROM:-0500
TZOFFSETTO:-0400
RDATE:20240310T020000
END:DAYLIGHT
END:VTIMEZONE
BEGIN:VEVENT
UID:1d683fea-038e-4360-a528-7152aabdc221
DTSTAMP:20260421T233432Z
DESCRIPTION:Queen Elizabeth is dead\, and her favorite courtier\, Sir Walte
 r Raleigh\, is facing the executioner's blade. Larger-than-life\, Raleigh 
 meets his fate with wit and aplomb\, despite a court of vipers and a jealo
 us king intent on bringing his downfall. '... Ira David Wood III has given
  audiences many memorable moments. But none perhaps is so poignant - or so
  uniquely his own - as Theatre In The Park's stage biography of Sir Walter
  Raleigh.' - Raleigh Times.
DTSTART;TZID=America/New_York:20230611T150000
DTEND;TZID=America/New_York:20230611T170000
LOCATION:107 Pullen Road\, Raleigh\, NC 27607 US
SUMMARY:Raleigh
END:VEVENT
END:VCALENDAR
