BEGIN:VCALENDAR
VERSION:2.0
PRODID:-//www.theatreinthepark.com//NONSGML kigkonsult.se iCalcreator 2.30.
 10//
CALSCALE:GREGORIAN
METHOD:PUBLISH
UID:fe325e2d-65d9-4e62-851e-663c34045b9c
X-WR-CALDESC:
X-WR-RELCALID:ef1f4c597e351caae22f5ec4bcd4c72c
X-WR-TIMEZONE:America/New_York
BEGIN:VTIMEZONE
TZID:America/New_York
BEGIN:STANDARD
TZNAME:EST
DTSTART:20221106T020000
TZOFFSETFROM:-0400
TZOFFSETTO:-0500
RDATE:20231105T020000
END:STANDARD
BEGIN:DAYLIGHT
TZNAME:EDT
DTSTART:20220313T020000
TZOFFSETFROM:-0500
TZOFFSETTO:-0400
RDATE:20230312T020000
RDATE:20240310T020000
END:DAYLIGHT
END:VTIMEZONE
BEGIN:VEVENT
UID:422e9d10-e322-4154-9609-11b5cea8d90c
DTSTAMP:20260422T065015Z
DESCRIPTION:
DTSTART;TZID=America/New_York:20230226T150000
DTEND;TZID=America/New_York:20230226T170000
LOCATION:107 Pullen Road\, Raleigh\, NC 27607 US
SUMMARY:Forbidden Broadway
END:VEVENT
END:VCALENDAR
