BEGIN:VCALENDAR
VERSION:2.0
PRODID:-//www.theatreinthepark.com//NONSGML kigkonsult.se iCalcreator 2.30.
 10//
CALSCALE:GREGORIAN
METHOD:PUBLISH
UID:846784fb-a1b1-4587-8715-03bd0c29be1a
X-WR-CALDESC:
X-WR-RELCALID:a1140361d2edd4c13de08ff16133719a
X-WR-TIMEZONE:America/New_York
BEGIN:VTIMEZONE
TZID:America/New_York
BEGIN:STANDARD
TZNAME:EST
DTSTART:20221106T020000
TZOFFSETFROM:-0400
TZOFFSETTO:-0500
RDATE:20231105T020000
END:STANDARD
BEGIN:DAYLIGHT
TZNAME:EDT
DTSTART:20220313T020000
TZOFFSETFROM:-0500
TZOFFSETTO:-0400
RDATE:20230312T020000
RDATE:20240310T020000
END:DAYLIGHT
END:VTIMEZONE
BEGIN:VEVENT
UID:787cf4cb-43ab-4cf0-a810-1be3fe226643
DTSTAMP:20260422T065314Z
DESCRIPTION:
DTSTART;TZID=America/New_York:20230225T193000
DTEND;TZID=America/New_York:20230225T213000
LOCATION:107 Pullen Road\, Raleigh\, NC 27607 US
SUMMARY:Forbidden Broadway
END:VEVENT
END:VCALENDAR
