BEGIN:VCALENDAR
VERSION:2.0
PRODID:-//www.theatreinthepark.com//NONSGML kigkonsult.se iCalcreator 2.30.
 10//
CALSCALE:GREGORIAN
METHOD:PUBLISH
UID:28a561a5-e3cd-4fd9-a234-75af1cb4f131
X-WR-CALDESC:
X-WR-RELCALID:fabd9477aaf3cf78cbf60f136b5ed766
X-WR-TIMEZONE:America/New_York
BEGIN:VTIMEZONE
TZID:America/New_York
BEGIN:STANDARD
TZNAME:EST
DTSTART:20221106T020000
TZOFFSETFROM:-0400
TZOFFSETTO:-0500
RDATE:20231105T020000
END:STANDARD
BEGIN:DAYLIGHT
TZNAME:EDT
DTSTART:20220313T020000
TZOFFSETFROM:-0500
TZOFFSETTO:-0400
RDATE:20230312T020000
RDATE:20240310T020000
END:DAYLIGHT
END:VTIMEZONE
BEGIN:VEVENT
UID:fc47c187-f082-4bd8-8e90-4858cb6fc645
DTSTAMP:20260422T065511Z
DESCRIPTION:
DTSTART;TZID=America/New_York:20230224T193000
DTEND;TZID=America/New_York:20230224T213000
LOCATION:107 Pullen Road\, Raleigh\, NC 27607 US
SUMMARY:Forbidden Broadway
END:VEVENT
END:VCALENDAR
