BEGIN:VCALENDAR
VERSION:2.0
PRODID:-//www.theatreinthepark.com//NONSGML kigkonsult.se iCalcreator 2.30.
 10//
CALSCALE:GREGORIAN
METHOD:PUBLISH
UID:38656a56-c9e4-4d2d-bc55-159ca35c20a5
X-WR-CALDESC:
X-WR-RELCALID:b80e81bf0606147c3635ed50912705de
X-WR-TIMEZONE:America/New_York
BEGIN:VTIMEZONE
TZID:America/New_York
BEGIN:STANDARD
TZNAME:EST
DTSTART:20221106T020000
TZOFFSETFROM:-0400
TZOFFSETTO:-0500
RDATE:20231105T020000
END:STANDARD
BEGIN:DAYLIGHT
TZNAME:EDT
DTSTART:20220313T020000
TZOFFSETFROM:-0500
TZOFFSETTO:-0400
RDATE:20230312T020000
RDATE:20240310T020000
END:DAYLIGHT
END:VTIMEZONE
BEGIN:VEVENT
UID:6c0e4878-1dcc-4c3d-af6b-393505143652
DTSTAMP:20260422T065138Z
DESCRIPTION:
DTSTART;TZID=America/New_York:20230223T193000
DTEND;TZID=America/New_York:20230223T213000
LOCATION:107 Pullen Road\, Raleigh\, NC 27607 US
SUMMARY:Forbidden Broadway
END:VEVENT
END:VCALENDAR
