BEGIN:VCALENDAR
VERSION:2.0
PRODID:-//www.theatreinthepark.com//NONSGML kigkonsult.se iCalcreator 2.30.
 10//
CALSCALE:GREGORIAN
METHOD:PUBLISH
UID:d39e9ae5-0c65-473a-babf-6aa3d2abf1b2
X-WR-CALDESC:
X-WR-RELCALID:384ca02dbba7e608eda1acbb876ba338
X-WR-TIMEZONE:America/New_York
BEGIN:VTIMEZONE
TZID:America/New_York
BEGIN:STANDARD
TZNAME:EST
DTSTART:20221106T020000
TZOFFSETFROM:-0400
TZOFFSETTO:-0500
RDATE:20231105T020000
END:STANDARD
BEGIN:DAYLIGHT
TZNAME:EDT
DTSTART:20220313T020000
TZOFFSETFROM:-0500
TZOFFSETTO:-0400
RDATE:20230312T020000
RDATE:20240310T020000
END:DAYLIGHT
END:VTIMEZONE
BEGIN:VEVENT
UID:44c4d0b1-516a-4aeb-930f-e9e0ce04af7c
DTSTAMP:20260422T065535Z
DESCRIPTION:
DTSTART;TZID=America/New_York:20230218T193000
DTEND;TZID=America/New_York:20230218T213000
LOCATION:107 Pullen Road\, Raleigh\, NC 27607 US
SUMMARY:Forbidden Broadway
END:VEVENT
END:VCALENDAR
