BEGIN:VCALENDAR
VERSION:2.0
PRODID:-//www.theatreinthepark.com//NONSGML kigkonsult.se iCalcreator 2.30.
 10//
CALSCALE:GREGORIAN
METHOD:PUBLISH
UID:26b4159c-034b-4e01-8618-b014b2f9df67
X-WR-CALDESC:A musical comedy adaptation of the Dickens classic. The show h
 as been performed annually since 1974 and was named one of the 'Top 20 Eve
 nts in the Southeast.' Cited as 'one of the most successful shows in North
  Carolina theatre history\,' A Christmas Carol has enjoyed critically accl
 aimed tours to England and France.\n\nSeason members may save on ticketing
  fees by purchasing tickets with their membership. Please see the link bel
 ow to purchase a membership.
X-WR-RELCALID:83df0f0a99f6dee1943ffc71aac04654
X-WR-TIMEZONE:America/New_York
BEGIN:VTIMEZONE
TZID:America/New_York
BEGIN:STANDARD
TZNAME:EST
DTSTART:20221106T020000
TZOFFSETFROM:-0400
TZOFFSETTO:-0500
RDATE:20231105T020000
END:STANDARD
BEGIN:DAYLIGHT
TZNAME:EDT
DTSTART:20220313T020000
TZOFFSETFROM:-0500
TZOFFSETTO:-0400
RDATE:20230312T020000
RDATE:20240310T020000
END:DAYLIGHT
END:VTIMEZONE
BEGIN:VEVENT
UID:043b990f-f584-4d19-a933-85b9b237a236
DTSTAMP:20260421T110833Z
DESCRIPTION:A musical comedy adaptation of the Dickens classic. The show ha
 s been performed annually since 1974 and was named one of the 'Top 20 Even
 ts in the Southeast.' Cited as 'one of the most successful shows in North 
 Carolina theatre history\,' A Christmas Carol has enjoyed critically accla
 imed tours to England and France.\n\nSeason members may save on ticketing 
 fees by purchasing tickets with their membership. Please see the link belo
 w to purchase a membership.
DTSTART;TZID=America/New_York:20221217T140000
DTEND;TZID=America/New_York:20221217T160000
LOCATION:Durham Performing Arts Center (DPAC)\, 123 Vivian St\, Durham\, NC
  27701 US
SUMMARY:A Christmas Carol in Durham
END:VEVENT
END:VCALENDAR
