BEGIN:VCALENDAR
VERSION:2.0
PRODID:-//www.theatreinthepark.com//NONSGML kigkonsult.se iCalcreator 2.30.
 10//
CALSCALE:GREGORIAN
METHOD:PUBLISH
UID:7ddfc3bb-db79-4242-b324-64c728518106
X-WR-CALDESC:A musical comedy adaptation of the Dickens classic. The show h
 as been performed annually since 1974 and was named one of the 'Top 20 Eve
 nts in the Southeast.' Cited as 'one of the most successful shows in North
  Carolina theatre history\,' A Christmas Carol has enjoyed critically accl
 aimed tours to England and France.\n\nGeneral public tickets for Raleigh p
 erformances go on-sale Sunday\, October 16.\n\nSeason members may buy Rale
 igh tickets in advance with their membership. Please see the link below to
  purchase a membership.
X-WR-RELCALID:c81297ee4debea713f802ae1e483f625
X-WR-TIMEZONE:America/New_York
BEGIN:VTIMEZONE
TZID:America/New_York
BEGIN:STANDARD
TZNAME:EST
DTSTART:20221106T020000
TZOFFSETFROM:-0400
TZOFFSETTO:-0500
RDATE:20231105T020000
END:STANDARD
BEGIN:DAYLIGHT
TZNAME:EDT
DTSTART:20220313T020000
TZOFFSETFROM:-0500
TZOFFSETTO:-0400
RDATE:20230312T020000
RDATE:20240310T020000
END:DAYLIGHT
END:VTIMEZONE
BEGIN:VEVENT
UID:270b67bf-42a0-48c1-9840-574e218c4cb1
DTSTAMP:20260422T100645Z
DESCRIPTION:A musical comedy adaptation of the Dickens classic. The show ha
 s been performed annually since 1974 and was named one of the 'Top 20 Even
 ts in the Southeast.' Cited as 'one of the most successful shows in North 
 Carolina theatre history\,' A Christmas Carol has enjoyed critically accla
 imed tours to England and France.\n\nGeneral public tickets for Raleigh pe
 rformances go on-sale Sunday\, October 16.\n\nSeason members may buy Ralei
 gh tickets in advance with their membership. Please see the link below to 
 purchase a membership.
DTSTART;TZID=America/New_York:20221209T190000
DTEND;TZID=America/New_York:20221209T210000
LOCATION:Raleigh Memorial Auditorium at Duke Energy Center\, 2 East South S
 treet\, Raleigh\, NC 27601 US
SUMMARY:A Christmas Carol in Raleigh
END:VEVENT
END:VCALENDAR
