BEGIN:VCALENDAR
VERSION:2.0
PRODID:-//www.theatreinthepark.com//NONSGML kigkonsult.se iCalcreator 2.30.
 10//
CALSCALE:GREGORIAN
METHOD:PUBLISH
UID:b1219aaa-b579-41a2-bf0c-e141e75d7ab8
X-WR-CALDESC:This play centers around Oskar\, a bullied\, lonely teenage bo
 y who lives with his mother\, and Eli\, a young girl who has just moved in
  next door. A spate of sinister killings have rocked their town. Oskar not
 ices that Eli doesn't go to school and never leaves her home by day. Get r
 eady for some chills and thrills in this hauntingly beautiful vampire myth
  and coming-of-age story.\n\n<a href='https://theatreinthepark.secure.forc
 e.com/ticket/#/events/a0S1K00000J6rerUAB'>Buy Tickets</a>
X-WR-RELCALID:252cacc92883c3d95de8efc7d9f92263
X-WR-TIMEZONE:America/New_York
BEGIN:VTIMEZONE
TZID:America/New_York
BEGIN:STANDARD
TZNAME:EST
DTSTART:20211107T020000
TZOFFSETFROM:-0400
TZOFFSETTO:-0500
RDATE:20221106T020000
RDATE:20231105T020000
END:STANDARD
BEGIN:DAYLIGHT
TZNAME:EDT
DTSTART:20220313T020000
TZOFFSETFROM:-0500
TZOFFSETTO:-0400
RDATE:20230312T020000
RDATE:20240310T020000
END:DAYLIGHT
END:VTIMEZONE
BEGIN:VEVENT
UID:81ec44d4-fbbd-4f65-82b6-0498e1fb3377
DTSTAMP:20260423T145146Z
DESCRIPTION:This play centers around Oskar\, a bullied\, lonely teenage boy
  who lives with his mother\, and Eli\, a young girl who has just moved in 
 next door. A spate of sinister killings have rocked their town. Oskar noti
 ces that Eli doesn't go to school and never leaves her home by day. Get re
 ady for some chills and thrills in this hauntingly beautiful vampire myth 
 and coming-of-age story.\n\n<a href='https://theatreinthepark.secure.force
 .com/ticket/#/events/a0S1K00000J6rerUAB'>Buy Tickets</a>
DTSTART;TZID=America/New_York:20220930T193000
DTEND;TZID=America/New_York:20220930T203000
LOCATION:Theatre In The Park\, 107 Pullen Rd\, Raleigh\, NC 27607 US
SUMMARY:Let the Right One In
END:VEVENT
END:VCALENDAR
